Workbook

Sheet CONFIGURADOR
G2: PRECIOS ACTUALIZADOS
B3: CONFIGURADOR:
B5: Motherboard
E6: =Componentes!$E$53 -> 145.73
B7: Microprocesador
E8: =Componentes!$E$28 -> 291.46
B9: SAI | G9: www.multiservice24h.com
E10: =Componentes!$K$150 -> 0
B11: Memoria Interna
E12: =Componentes!$E$2 -> 146.8628
B13: Disco Duro
E14: =Componentes!$E$83 -> 113.8228
B15: Fuentes Alimentación
E16: =Componentes!$K$108 -> 49.56
B17: Portátiles
E18: =Componentes!$K$73 -> 0
B19: Ópticos
E20: =Componentes!$K$81 -> 69.9504
B21: Disco Externo
E22: =Componentes!$E$146 -> 68.1096
B23: Tarjeta Gráfica | G23: =CONCATENATE("Su configuración: ",Componentes!D53,"; ",Componentes!D107,"; ",Componentes!D28,"; Memoria ",Componentes!D2,"; ",Componentes!J2,"; y Disco duro ",Componentes!D83,"") -> Su configuración: GIGABYTE G1 SNIPER Z97 1150 ATX; ASUS ATI RADEON R9 270X DIRECT CU II 4GB DDR5; i7 4790K 4.0 Ghz, 1150 Box; Memoria DDR 3 PC1866 16 GB KINGSTON HYPERX 2X8GB; 0; y Disco duro SSDNOW KINGSTON V300 240G SATA III
E24: =Componentes!$E$107 -> 200.8832
B25: Tablets
E26: =Componentes!$E$130 -> 0
B27: Memoria Externa
E28: =Componentes!$K$130 -> 0
B29: Caja PC Sobremesa
E30: =Componentes!$K$119 -> 34.22
B31: Monitor | G31: Precio de la configuración:
E32: =Componentes!$K$2 -> 0 | G32: =SUM(Componentes!E202+Componentes!K202) -> 1200.1072
B33: Teclado/ Ratón | G33: PRECIO CON IVA
E34: =Componentes!$E$153 -> 15.0096
B35: Multifunción | G35: =G32*1.21 -> 1452.1297
E36: =Componentes!$K$171 -> 55.578
B37: Lector Tarjetas
E38: =Componentes!$K$162 -> 8.9208
G51: Calle Suecia, 79
G52: e-mail: informatica@multiservice24h.eu
G53: Tf.: 912607686
G54: multiservice24h

Sheet Componentes
A1: MEMORIAS INTERNAS | G1: MONITORES
C2: 18 | D2: =INDEX(A2:A26,C2) -> DDR 3 PC1866 16 GB KINGSTON HYPERX 2X8GB | E2: =INDEX(F2:F26,C2) -> 146.8628 | I2: 1 | J2: =INDEX(G2:G71,I2) -> 0 | K2: =INDEX(L2:L71,I2) -> 0
A3: SO DIMM DDR-667 1G | B3: 17.6 | F3: =B3*$B$179 -> 20.768 | G3: LG 19EN33S-B | H3: 72.6 | L3: =H3*$B$179 -> 85.668
A4: SO DIMM DDR-667 2G | B4: 25.3 | F4: =B4*$B$179 -> 29.854 | G4: PACKARD BELL WISEO | H4: 74.8 | L4: =H4*$B$179 -> 88.264
A5: SO DIMM DDR-800 1G | B5: 14.3 | F5: =B5*$B$179 -> 16.874 | G5: LG 20EN33SS | H5: 84.7 | L5: =H5*$B$179 -> 99.946
A6: SO DIMM DDR2- 800 2G | B6: 26.4 | F6: =B6*$B$179 -> 31.152 | G6: LG 22EN33S-B | H6: 92.95 | L6: =H6*$B$179 -> 109.681
A7: SO DIMM DDR3-1333 2G | B7: 19.8 | F7: =B7*$B$179 -> 23.364 | G7: LG 24EN33S | H7: 118.8 | L7: =H7*$B$179 -> 140.184
A8: SO DIMM DDR3-1333 4G | B8: 30.8 | F8: =B8*$B$179 -> 36.344 | G8: ASUS VS197DE LED | H8: 69.3 | L8: =H8*$B$179 -> 81.774
A9: SO DIMM DDR3-1333 8G | B9: 56.65 | F9: =B9*$B$179 -> 66.847 | G9: ASUS VW199TR Multimedia | H9: CONS | L9: =H9*$B$179 -> #VALUE!
A10: SO DIMM DDR3-1600 4G | B10: 30.8 | F10: =B10*$B$179 -> 36.344 | G10: HANNS 5:4 MULTIMEDIA HX193DPB | H10: 94.6 | L10: =H10*$B$179 -> 111.628
A11: SO DIMM DDR3-1600 8G | B11: 58.3 | F11: =B11*$B$179 -> 68.794 | G11: HANNS HE225DPB | H11: 96.03 | L11: =H11*$B$179 -> 113.3154
A12: DIMM DDR2-667 2G | B12: 27.61 | F12: =B12*$B$179 -> 32.5798 | G12: TACTIL MUSTEK-TS-15UN, RESISTIVA | H12: 205.7 | L12: =H12*$B$179 -> 242.726
A13: DIMM DDR2-800 2G | B13: 26.4 | F13: =B13*$B$179 -> 31.152 | L13: =H13*$B$179 -> 0
A14: DIMM DDR3-1333 2G | B14: 16.5 | F14: =B14*$B$179 -> 19.47 | L14: =H14*$B$179 -> 0
A15: DIMM DDR3-1333 4G | B15: 28.6 | F15: =B15*$B$179 -> 33.748 | L15: =H15*$B$179 -> 0
A16: DIMM DDR3-1333 8G | B16: 48.652 | F16: =B16*$B$179 -> 57.40936 | L16: =H16*$B$179 -> 0
A17: DIMM DDR3-1600 2G | B17: 15.29 | F17: =B17*$B$179 -> 18.0422 | L17: =H17*$B$179 -> 0
A18: DIMM DDR3-1600 4G | B18: 27.83 | F18: =B18*$B$179 -> 32.8394 | L18: =H18*$B$179 -> 0
A19: DDR 3 PC1866 16 GB KINGSTON HYPERX 2X8GB | B19: 124.46 | F19: =B19*$B$179 -> 146.8628 | L19: =H19*$B$179 -> 0
F20: 0 | L20: =H20*$B$179 -> 0
F21: 0 | L21: =H21*$B$179 -> 0
F22: 0 | L22: =H22*$B$179 -> 0
F23: =B134*$B$179 -> 0 | L23: =H23*$B$179 -> 0
F24: =B135*$B$179 -> 0 | L24: =H24*$B$179 -> 0
F25: =B136*$B$179 -> 0 | L25: =H25*$B$179 -> 0
F26: =B26*$B$179 -> 0 | L26: =H26*$B$179 -> 0
A27: PROCESADORES | L27: =H27*$B$179 -> 0
C28: 16 | D28: =INDEX(A28:A51,C28) -> i7 4790K 4.0 Ghz, 1150 Box | E28: =INDEX(F28:F51,C28) -> 291.46 | L28: =H28*$B$179 -> 0
A29: G1620 Celeron 2MB 2,6ghz 1155 | B29: 28.05 | F29: =B29*$B$179 -> 33.099 | L29: =H29*$B$179 -> 0
A30: G2030 DualCore 2MB 2,9Ghz 1155 | B30: 39.05 | D30: + | F30: =B30*$B$179 -> 46.079 | L30: =H30*$B$179 -> 0
A31: G3220 SOCKET 1150 3,0Ghz 1150 | B31: 41.8 | F31: =B31*$B$179 -> 49.324 | L31: =H31*$B$179 -> 0
A32: i3 4130 3MB 1150 3,3Ghz 1150 | B32: 84.7 | D32: + | F32: =B32*$B$179 -> 99.946 | L32: =H32*$B$179 -> 0
A33: i3 3220 3MB 3,3 Ghz 1155 | B33: cons | F33: =B33*$B$179 -> #VALUE! | L33: =H33*$B$179 -> 0
A34: i3 3240 3MB 3,4Ghz 1155 | B34: 80.85 | D34: + | F34: =B34*$B$179 -> 95.403 | L34: =H34*$B$179 -> 0
A35: i5 3330 6MB 3,0 Ghz 1155 | B35: 121 | F35: =B35*$B$179 -> 142.78 | L35: =H35*$B$179 -> 0
A36: i5 3470 6MB 3,2 Ghz 1155 | B36: 132 | F36: =B36*$B$179 -> 155.76 | L36: =H36*$B$179 -> 0
A37: i5 3570 6MB 3,4 Ghz 1155 | B37: cons | D37: + | F37: =B37*$B$179 -> #VALUE! | L37: =H37*$B$179 -> 0
A38: i5 4440 6MB 1150 3,0 Ghz | B38: 128.7 | F38: =B38*$B$179 -> 151.866 | L38: =H38*$B$179 -> 0
A39: i5 4670 8MB 1150 3,4 Ghz | B39: 155.1 | F39: =B39*$B$179 -> 183.018 | L39: =H39*$B$179 -> 0
A40: i7 3770 8MB 3,4 Ghz 1155 | B40: 209 | F40: =B40*$B$179 -> 246.62 | L40: =H40*$B$179 -> 0
...
